BEGIN:VCALENDAR
VERSION:2.0
PRODID:-//wp-events-plugin.com//5.99912//EN
TZID:Europe/Berlin
X-WR-TIMEZONE:Europe/Berlin
BEGIN:VEVENT
UID:0-234@bartenbach.albverein.eu
DTSTART;TZID=Europe/Berlin;VALUE=DATE:20260514
DTEND;TZID=Europe/Berlin;VALUE=DATE:20260515
DTSTAMP:20260120T062335Z
URL:https://bartenbach.albverein.eu/events/bundesweiter-tag-des-wanderns-3
 /
SUMMARY:Bundesweiter Tag des Wanderns
DESCRIPTION:Eine Veranstaltung des Deutscher Wanderverband.\n\nNäheres unt
 er https://wandern.albverein.net\n\n&nbsp\;
END:VEVENT
BEGIN:VTIMEZONE
TZID:Europe/Berlin
X-LIC-LOCATION:Europe/Berlin
BEGIN:DAYLIGHT
DTSTART:20260329T030000
TZOFFSETFROM:+0100
TZOFFSETTO:+0200
TZNAME:CEST
END:DAYLIGHT
END:VTIMEZONE
END:VCALENDAR