BEGIN:VCALENDAR
VERSION:2.0
PRODID:-//wp-events-plugin.com//5.99912//EN
TZID:Europe/Berlin
X-WR-TIMEZONE:Europe/Berlin
BEGIN:VEVENT
UID:0-232@bartenbach.albverein.eu
DTSTART;TZID=Europe/Berlin;VALUE=DATE:20260426
DTEND;TZID=Europe/Berlin;VALUE=DATE:20260427
DTSTAMP:20260327T135410Z
URL:https://bartenbach.albverein.eu/events/hochgehberge-beuren/
SUMMARY:Hochgehberge auf der Schwäbischen Alb
DESCRIPTION:Gemütliche Wanderung \n\n\n\nTreffpunkt:\n10:30 Uhr\, Parkpla
 tz Meerbach-Grundschule Bartenbach.\n\n\nDauer/Km:\nCa. 2\,5h / 7 km\n\n\n
 Hin- und Rückfahrt:\nMit Pkws und Fahrgemeinschaften\, ca. 40 Min.\n\n\nF
 ahrgeld:\nMit dem/der Fahrer/in klären.\n\n\nParken:\nWanderparkplatz Fre
 ilichtmuseum\, 72660 Beuren.\n\n\nFür unterwegs:\nRucksackvesper.\n\n\nEi
 nkehr:\nNicht vorgesehen.\n\n\nLeitung:\nJannik Hübl\, Mobil: 0175 199745
 7.\n\n\nAnforderungen:\nFür Kinderwagen geeignet\, Schotter und Waldwege.
 \n\n\n\n&nbsp\;
END:VEVENT
BEGIN:VTIMEZONE
TZID:Europe/Berlin
X-LIC-LOCATION:Europe/Berlin
BEGIN:DAYLIGHT
DTSTART:20260329T030000
TZOFFSETFROM:+0100
TZOFFSETTO:+0200
TZNAME:CEST
END:DAYLIGHT
END:VTIMEZONE
END:VCALENDAR