BEGIN:VCALENDAR
VERSION:2.0
PRODID:-//wp-events-plugin.com//5.99912//EN
TZID:Europe/Berlin
X-WR-TIMEZONE:Europe/Berlin
BEGIN:VEVENT
UID:0-237@bartenbach.albverein.eu
DTSTART;TZID=Europe/Berlin;VALUE=DATE:20260628
DTEND;TZID=Europe/Berlin;VALUE=DATE:20260629
DTSTAMP:20260120T063119Z
URL:https://bartenbach.albverein.eu/events/schelmenklinge-lorch/
SUMMARY:Schelmenklinge Lorch
DESCRIPTION:Für Kinderwagen geeignet. Es muss aber ein kurzes Stück getra
 gen werden.\n\nLeitung: Susann Adelhelm\n\nNäheres wird noch bekanntgegeb
 en.
END:VEVENT
BEGIN:VTIMEZONE
TZID:Europe/Berlin
X-LIC-LOCATION:Europe/Berlin
BEGIN:DAYLIGHT
DTSTART:20260329T030000
TZOFFSETFROM:+0100
TZOFFSETTO:+0200
TZNAME:CEST
END:DAYLIGHT
END:VTIMEZONE
END:VCALENDAR