BEGIN:VCALENDAR
VERSION:2.0
PRODID:-//wp-events-plugin.com//5.99912//EN
TZID:Europe/Berlin
X-WR-TIMEZONE:Europe/Berlin
BEGIN:VEVENT
UID:0-235@bartenbach.albverein.eu
DTSTART;TZID=Europe/Berlin;VALUE=DATE:20260517
DTEND;TZID=Europe/Berlin;VALUE=DATE:20260518
DTSTAMP:20260120T062626Z
URL:https://bartenbach.albverein.eu/events/schneckenhaeusle-und-kornberghu
 ette/
SUMMARY:Schneckenhäusle und Kornberghütte
DESCRIPTION:Leitung: Kevin Landgraf\n\nNäheres wird noch bekanntgegeben.
END:VEVENT
BEGIN:VTIMEZONE
TZID:Europe/Berlin
X-LIC-LOCATION:Europe/Berlin
BEGIN:DAYLIGHT
DTSTART:20260329T030000
TZOFFSETFROM:+0100
TZOFFSETTO:+0200
TZNAME:CEST
END:DAYLIGHT
END:VTIMEZONE
END:VCALENDAR